BEGIN:VCALENDAR
VERSION:2.0
PRODID:-//Stolzehüsli - ECPv6.15.20//NONSGML v1.0//EN
CALSCALE:GREGORIAN
METHOD:PUBLISH
X-WR-CALNAME:Stolzehüsli
X-ORIGINAL-URL:https://stolze-huesli.ch
X-WR-CALDESC:Veranstaltungen im Stolzehüsli
REFRESH-INTERVAL;VALUE=DURATION:PT1H
X-Robots-Tag:noindex
X-PUBLISHED-TTL:PT1H
BEGIN:VTIMEZONE
TZID:Europe/Helsinki
BEGIN:DAYLIGHT
TZOFFSETFROM:+0200
TZOFFSETTO:+0300
TZNAME:EEST
DTSTART:20240331T010000
END:DAYLIGHT
BEGIN:STANDARD
TZOFFSETFROM:+0300
TZOFFSETTO:+0200
TZNAME:EET
DTSTART:20241027T010000
END:STANDARD
BEGIN:DAYLIGHT
TZOFFSETFROM:+0200
TZOFFSETTO:+0300
TZNAME:EEST
DTSTART:20250330T010000
END:DAYLIGHT
BEGIN:STANDARD
TZOFFSETFROM:+0300
TZOFFSETTO:+0200
TZNAME:EET
DTSTART:20251026T010000
END:STANDARD
BEGIN:DAYLIGHT
TZOFFSETFROM:+0200
TZOFFSETTO:+0300
TZNAME:EEST
DTSTART:20260329T010000
END:DAYLIGHT
BEGIN:STANDARD
TZOFFSETFROM:+0300
TZOFFSETTO:+0200
TZNAME:EET
DTSTART:20261025T010000
END:STANDARD
END:VTIMEZONE
BEGIN:VEVENT
DTSTART;TZID=Europe/Helsinki:20250904T180000
DTEND;TZID=Europe/Helsinki:20250904T220000
DTSTAMP:20260423T005913
CREATED:20250820T135920Z
LAST-MODIFIED:20250820T135920Z
UID:378-1757008800-1757023200@stolze-huesli.ch
SUMMARY:Dunnstigs-Jass
DESCRIPTION:Juhuu\, der erste Dunnstigs-Jass im Stolzehüsli steht an! \nAm 4. September ist es soweit – beim Jassturnier können alle mitspielen: von Jung bis Alt\, vom Newbie bis zum Profi. Hauptsache\, es macht euch Spass! \nMeldet euch direkt als 2er-Team mit eurem Teamnamen an. Die Plätze sind begrenzt – also better be quick ♥️ \n Anmeldung an: lea.vogel@stolze-openair.ch
URL:https://stolze-huesli.ch/event/dunnstigs-jass/
ATTACH;FMTTYPE=image/jpeg:https://stolze-huesli.ch/wp-content/uploads/2025/08/8f04dc46-10b8-4603-879b-8c3a6778f657.jpg
END:VEVENT
BEGIN:VEVENT
DTSTART;TZID=Europe/Helsinki:20250904T190000
DTEND;TZID=Europe/Helsinki:20250904T200000
DTSTAMP:20260423T005913
CREATED:20250820T134626Z
LAST-MODIFIED:20250820T134626Z
UID:363-1757012400-1757016000@stolze-huesli.ch
SUMMARY:Yoga auf der Stolzewiese
DESCRIPTION:Komm vorbei zum wöchentlichen Yoga – ganz egal\, ob du zum ersten Mal dabei bist oder schon Erfahrung hast. Alle sind willkommen. Bring dein eigenes Mätteli mit (wir haben auch ein paar auf Reserve). \n Jeden Donnerstag um 19:00 Uhr – 3. Juli bis 2. Oktober \n Beitrag: ab 15.– \nFalls das finanziell nicht drinliegt\, komm trotzdem – sprich uns einfach an\, wir finden eine Lösung  \n❗Bei Regen fällt’s aus
URL:https://stolze-huesli.ch/event/yoga-auf-der-stolzewiese/
ATTACH;FMTTYPE=image/jpeg:https://stolze-huesli.ch/wp-content/uploads/2025/06/photo_2025-06-23-12.37.51.jpg
END:VEVENT
END:VCALENDAR