BEGIN:VCALENDAR
VERSION:2.0
PRODID:-//Stolzehüsli - ECPv6.15.20//NONSGML v1.0//EN
CALSCALE:GREGORIAN
METHOD:PUBLISH
X-ORIGINAL-URL:https://stolze-huesli.ch
X-WR-CALDESC:Veranstaltungen im Stolzehüsli
REFRESH-INTERVAL;VALUE=DURATION:PT1H
X-Robots-Tag:noindex
X-PUBLISHED-TTL:PT1H
BEGIN:VTIMEZONE
TZID:Europe/Helsinki
BEGIN:DAYLIGHT
TZOFFSETFROM:+0200
TZOFFSETTO:+0300
TZNAME:EEST
DTSTART:20240331T010000
END:DAYLIGHT
BEGIN:STANDARD
TZOFFSETFROM:+0300
TZOFFSETTO:+0200
TZNAME:EET
DTSTART:20241027T010000
END:STANDARD
BEGIN:DAYLIGHT
TZOFFSETFROM:+0200
TZOFFSETTO:+0300
TZNAME:EEST
DTSTART:20250330T010000
END:DAYLIGHT
BEGIN:STANDARD
TZOFFSETFROM:+0300
TZOFFSETTO:+0200
TZNAME:EET
DTSTART:20251026T010000
END:STANDARD
BEGIN:DAYLIGHT
TZOFFSETFROM:+0200
TZOFFSETTO:+0300
TZNAME:EEST
DTSTART:20260329T010000
END:DAYLIGHT
BEGIN:STANDARD
TZOFFSETFROM:+0300
TZOFFSETTO:+0200
TZNAME:EET
DTSTART:20261025T010000
END:STANDARD
END:VTIMEZONE
BEGIN:VEVENT
DTSTART;TZID=Europe/Helsinki:20251101T200000
DTEND;TZID=Europe/Helsinki:20251101T210000
DTSTAMP:20260422T192539
CREATED:20251008T091527Z
LAST-MODIFIED:20251008T091527Z
UID:395-1762027200-1762030800@stolze-huesli.ch
SUMMARY:Konzert Trio Schmid–Rojas–Gutmann
DESCRIPTION:Konzert im Stolzehüsli \nTrio Schmid – Rojas – Gutmann \n\nSamstag\, 1. November 2025 / 20:00 Uhr \nPeter A. Schmid – Bassklarinette\, Taragot\, Saxofone \nJerry Rojas – elektrische & akustische Gitarren \nPit Gutmann – Perkussion\, Klangobjekte \nExperimenteller Kammerjazz mit rockigem Einschlag – zwischen Struktur und Freiheit\, Komposition und Improvisation. \nDas Trio Schmid–Rojas–Gutmann verbindet (Bass-)Holzblasinstrumente\, Gitarre und Perkussion zu einer lebendigen Klangreise voller Energie\, Spielfreude und überraschender Wendungen. \nDie Musiker kennen sich seit Jahrzehnten – ihre Musik ist eingespielt\, offen und immer auf der Suche nach neuen Klangräumen.
URL:https://stolze-huesli.ch/event/konzert-trio-schmid-rojas-gutmann/
ATTACH;FMTTYPE=image/jpeg:https://stolze-huesli.ch/wp-content/uploads/2025/10/KonzertTrioSchmidRojasGutmann_stolzehuesli252-scaled.jpg
END:VEVENT
END:VCALENDAR