BEGIN:VCALENDAR
VERSION:2.0
PRODID:-//Stolzehüsli - ECPv6.15.20//NONSGML v1.0//EN
CALSCALE:GREGORIAN
METHOD:PUBLISH
X-WR-CALNAME:Stolzehüsli
X-ORIGINAL-URL:https://stolze-huesli.ch
X-WR-CALDESC:Veranstaltungen im Stolzehüsli
REFRESH-INTERVAL;VALUE=DURATION:PT1H
X-Robots-Tag:noindex
X-PUBLISHED-TTL:PT1H
BEGIN:VTIMEZONE
TZID:Europe/Helsinki
BEGIN:DAYLIGHT
TZOFFSETFROM:+0200
TZOFFSETTO:+0300
TZNAME:EEST
DTSTART:20250330T010000
END:DAYLIGHT
BEGIN:STANDARD
TZOFFSETFROM:+0300
TZOFFSETTO:+0200
TZNAME:EET
DTSTART:20251026T010000
END:STANDARD
BEGIN:DAYLIGHT
TZOFFSETFROM:+0200
TZOFFSETTO:+0300
TZNAME:EEST
DTSTART:20260329T010000
END:DAYLIGHT
BEGIN:STANDARD
TZOFFSETFROM:+0300
TZOFFSETTO:+0200
TZNAME:EET
DTSTART:20261025T010000
END:STANDARD
BEGIN:DAYLIGHT
TZOFFSETFROM:+0200
TZOFFSETTO:+0300
TZNAME:EEST
DTSTART:20270328T010000
END:DAYLIGHT
BEGIN:STANDARD
TZOFFSETFROM:+0300
TZOFFSETTO:+0200
TZNAME:EET
DTSTART:20271031T010000
END:STANDARD
END:VTIMEZONE
BEGIN:VEVENT
DTSTART;TZID=Europe/Helsinki:20260204T140000
DTEND;TZID=Europe/Helsinki:20260204T170000
DTSTAMP:20260422T143053
CREATED:20260122T162350Z
LAST-MODIFIED:20260122T164124Z
UID:490-1770213600-1770224400@stolze-huesli.ch
SUMMARY:Ski und Snowboard Wachs-Workshop
DESCRIPTION:Ski- & Snowboard Wax Workshop ❄️ \nMittwoch\, 4. Februar 202614–17 Uhr \nWillst du dein Brett oder deine Ski für die Sportferien bereit machen?Dann komm zu unserem Ski- und Snowboard Wax Workshop und mach dein Material gemeinsam mit uns pistenfit. \nDas erwartet dich:– Kanten schleifen– Kratzer ausbessern– Wachsen– Gemütliche Bar mit Glühwein \nFür Erwachsene und Kinder in BegleitungBitte bring deine eigenen Ski oder dein Snowboard mit. \nBitte HIER anmelden! \nWir freuen uns auf dich! ❤️
URL:https://stolze-huesli.ch/event/ski-und-snowboard-wachs-workshop/
ATTACH;FMTTYPE=image/jpeg:https://stolze-huesli.ch/wp-content/uploads/2026/01/IMG_4325-2.jpg
END:VEVENT
END:VCALENDAR