BEGIN:VCALENDAR
VERSION:2.0
PRODID:-//Stolzehüsli - ECPv6.15.20//NONSGML v1.0//EN
CALSCALE:GREGORIAN
METHOD:PUBLISH
X-WR-CALNAME:Stolzehüsli
X-ORIGINAL-URL:https://stolze-huesli.ch
X-WR-CALDESC:Veranstaltungen im Stolzehüsli
REFRESH-INTERVAL;VALUE=DURATION:PT1H
X-Robots-Tag:noindex
X-PUBLISHED-TTL:PT1H
BEGIN:VTIMEZONE
TZID:Europe/Helsinki
BEGIN:DAYLIGHT
TZOFFSETFROM:+0200
TZOFFSETTO:+0300
TZNAME:EEST
DTSTART:20250330T010000
END:DAYLIGHT
BEGIN:STANDARD
TZOFFSETFROM:+0300
TZOFFSETTO:+0200
TZNAME:EET
DTSTART:20251026T010000
END:STANDARD
BEGIN:DAYLIGHT
TZOFFSETFROM:+0200
TZOFFSETTO:+0300
TZNAME:EEST
DTSTART:20260329T010000
END:DAYLIGHT
BEGIN:STANDARD
TZOFFSETFROM:+0300
TZOFFSETTO:+0200
TZNAME:EET
DTSTART:20261025T010000
END:STANDARD
BEGIN:DAYLIGHT
TZOFFSETFROM:+0200
TZOFFSETTO:+0300
TZNAME:EEST
DTSTART:20270328T010000
END:DAYLIGHT
BEGIN:STANDARD
TZOFFSETFROM:+0300
TZOFFSETTO:+0200
TZNAME:EET
DTSTART:20271031T010000
END:STANDARD
END:VTIMEZONE
BEGIN:VEVENT
DTSTART;TZID=Europe/Helsinki:20260321T090000
DTEND;TZID=Europe/Helsinki:20260321T120000
DTSTAMP:20260422T120755
CREATED:20260204T180020Z
LAST-MODIFIED:20260204T180020Z
UID:501-1774083600-1774094400@stolze-huesli.ch
SUMMARY:Mütter-Kafi
DESCRIPTION:Samstag\, 21. März 2026 9-12 Uhr \nWünscht du dir als Mutter mehr soziale Kontakte und mehr Austausch mit anderen Müttern? Dann komm ins Mütter-Kafi! \nAls Mutter hat sich eine Nachbarin vom Stolzehüsli nach der Geburt Orte in Zürich vermisst\, an denen man in einem ungezwungenen aber ansprechenden Rahmen andere Mütter kennenlernen\, sich austauschen\, Freundschaften schliessen kann und hoffentlich vieles mehr in weiterer Folge. Deshalb hat sie das Mütter-Kafi ins Leben gerufen. Lasst uns das ‚Mami sein‘ gemeinsam schöner machen! \nEs werden kostengünstig Getränke und Gipfeli zum Verkauf angeboten. Ihr könnt aber auch eigene Sachen mitbringen. Es gibt keinen Konsumzwang.
URL:https://stolze-huesli.ch/event/muetter-kafi-2/
ATTACH;FMTTYPE=image/png:https://stolze-huesli.ch/wp-content/uploads/2026/02/Flyer-Muetter-Kafi-nur-Bild-und-Hintergrund-scaled.png
END:VEVENT
END:VCALENDAR