BEGIN:VCALENDAR
VERSION:2.0
PRODID:-//Stolzehüsli - ECPv6.15.20//NONSGML v1.0//EN
CALSCALE:GREGORIAN
METHOD:PUBLISH
X-WR-CALNAME:Stolzehüsli
X-ORIGINAL-URL:https://stolze-huesli.ch
X-WR-CALDESC:Veranstaltungen im Stolzehüsli
REFRESH-INTERVAL;VALUE=DURATION:PT1H
X-Robots-Tag:noindex
X-PUBLISHED-TTL:PT1H
BEGIN:VTIMEZONE
TZID:Europe/Helsinki
BEGIN:DAYLIGHT
TZOFFSETFROM:+0200
TZOFFSETTO:+0300
TZNAME:EEST
DTSTART:20250330T010000
END:DAYLIGHT
BEGIN:STANDARD
TZOFFSETFROM:+0300
TZOFFSETTO:+0200
TZNAME:EET
DTSTART:20251026T010000
END:STANDARD
BEGIN:DAYLIGHT
TZOFFSETFROM:+0200
TZOFFSETTO:+0300
TZNAME:EEST
DTSTART:20260329T010000
END:DAYLIGHT
BEGIN:STANDARD
TZOFFSETFROM:+0300
TZOFFSETTO:+0200
TZNAME:EET
DTSTART:20261025T010000
END:STANDARD
BEGIN:DAYLIGHT
TZOFFSETFROM:+0200
TZOFFSETTO:+0300
TZNAME:EEST
DTSTART:20270328T010000
END:DAYLIGHT
BEGIN:STANDARD
TZOFFSETFROM:+0300
TZOFFSETTO:+0200
TZNAME:EET
DTSTART:20271031T010000
END:STANDARD
END:VTIMEZONE
BEGIN:VEVENT
DTSTART;TZID=Europe/Helsinki:20260325T120000
DTEND;TZID=Europe/Helsinki:20260325T170000
DTSTAMP:20260422T120625
CREATED:20260319T165249Z
LAST-MODIFIED:20260319T165249Z
UID:515-1774440000-1774458000@stolze-huesli.ch
SUMMARY:Eierfärben
DESCRIPTION:Am 25. März kannst du von 14:00 – 17:00 Uhr bei uns Eier färben und bemalen! 🐣 \nDavor könnt ihr bei Samira lecker Mittag essen ab 12:00 Uhr. Den Mittwochsmittagstisch wollen wir in unserer Sommersaison ab Mai jeden Mittwoch machen. Habt ihr auf etwas besonders Lust oder gute Ideen für Gerichte? Schreibt uns an food@stolze-huesli.ch 💕
URL:https://stolze-huesli.ch/event/eierfaerben/
ATTACH;FMTTYPE=image/jpeg:https://stolze-huesli.ch/wp-content/uploads/2026/03/26_SH_Eierfaerben-scaled.jpg
END:VEVENT
BEGIN:VEVENT
DTSTART;TZID=Europe/Helsinki:20260325T140000
DTEND;TZID=Europe/Helsinki:20260325T180000
DTSTAMP:20260422T120625
CREATED:20260319T165518Z
LAST-MODIFIED:20260319T165518Z
UID:518-1774447200-1774461600@stolze-huesli.ch
SUMMARY:Fredis Bar
DESCRIPTION:Fredi\, Karin und Jürg aus dem Kreis 6 wollte euch nicht auf dem Trockenen sitzen lassen und öffnen nun jeweils am Mittwoch im März und April\, von 14–18 Uhr das Stolzehüsli für einen gemütlichen Nachmittagsdrink und selbstgemachte Häppchen.
URL:https://stolze-huesli.ch/event/fredis-bar-4/
END:VEVENT
END:VCALENDAR