BEGIN:VCALENDAR
VERSION:2.0
PRODID:-//Stolzehüsli - ECPv6.15.20//NONSGML v1.0//EN
CALSCALE:GREGORIAN
METHOD:PUBLISH
X-ORIGINAL-URL:https://stolze-huesli.ch
X-WR-CALDESC:Veranstaltungen im Stolzehüsli
REFRESH-INTERVAL;VALUE=DURATION:PT1H
X-Robots-Tag:noindex
X-PUBLISHED-TTL:PT1H
BEGIN:VTIMEZONE
TZID:Europe/Helsinki
BEGIN:DAYLIGHT
TZOFFSETFROM:+0200
TZOFFSETTO:+0300
TZNAME:EEST
DTSTART:20250330T010000
END:DAYLIGHT
BEGIN:STANDARD
TZOFFSETFROM:+0300
TZOFFSETTO:+0200
TZNAME:EET
DTSTART:20251026T010000
END:STANDARD
BEGIN:DAYLIGHT
TZOFFSETFROM:+0200
TZOFFSETTO:+0300
TZNAME:EEST
DTSTART:20260329T010000
END:DAYLIGHT
BEGIN:STANDARD
TZOFFSETFROM:+0300
TZOFFSETTO:+0200
TZNAME:EET
DTSTART:20261025T010000
END:STANDARD
BEGIN:DAYLIGHT
TZOFFSETFROM:+0200
TZOFFSETTO:+0300
TZNAME:EEST
DTSTART:20270328T010000
END:DAYLIGHT
BEGIN:STANDARD
TZOFFSETFROM:+0300
TZOFFSETTO:+0200
TZNAME:EET
DTSTART:20271031T010000
END:STANDARD
END:VTIMEZONE
BEGIN:VEVENT
DTSTART;TZID=Europe/Helsinki:20260402T180000
DTEND;TZID=Europe/Helsinki:20260402T220000
DTSTAMP:20260420T101530
CREATED:20260222T160515Z
LAST-MODIFIED:20260222T160515Z
UID:510-1775152800-1775167200@stolze-huesli.ch
SUMMARY:Dunnstigs-Jass
DESCRIPTION:Dunnstigs-Jass 🔔 \nAm 02. April und 07. Mai um 18:00 Uhr geht es weiter. Beim Jassturnier sind alle willkommen – ob jung oder alt\, Einsteiger oder Profi. Entscheidend ist einzig der Spass am Spiel. \nDie Anmeldung erfolgt direkt als 2er-Team inklusive Teamnamen. Die Teilnehmerzahl ist begrenzt\, daher lohnt sich eine rasche Anmeldung. \nAnmeldung: lea.vogel@stolze-openair.ch
URL:https://stolze-huesli.ch/event/dunnstigs-jass-3/
ATTACH;FMTTYPE=image/jpeg:https://stolze-huesli.ch/wp-content/uploads/2026/02/IMG_3640-scaled.jpg
END:VEVENT
END:VCALENDAR