BEGIN:VCALENDAR
VERSION:2.0
PRODID:-//Stolzehüsli - ECPv6.15.20//NONSGML v1.0//EN
CALSCALE:GREGORIAN
METHOD:PUBLISH
X-WR-CALNAME:Stolzehüsli
X-ORIGINAL-URL:https://stolze-huesli.ch
X-WR-CALDESC:Veranstaltungen im Stolzehüsli
REFRESH-INTERVAL;VALUE=DURATION:PT1H
X-Robots-Tag:noindex
X-PUBLISHED-TTL:PT1H
BEGIN:VTIMEZONE
TZID:Europe/Helsinki
BEGIN:DAYLIGHT
TZOFFSETFROM:+0200
TZOFFSETTO:+0300
TZNAME:EEST
DTSTART:20240331T010000
END:DAYLIGHT
BEGIN:STANDARD
TZOFFSETFROM:+0300
TZOFFSETTO:+0200
TZNAME:EET
DTSTART:20241027T010000
END:STANDARD
BEGIN:DAYLIGHT
TZOFFSETFROM:+0200
TZOFFSETTO:+0300
TZNAME:EEST
DTSTART:20250330T010000
END:DAYLIGHT
BEGIN:STANDARD
TZOFFSETFROM:+0300
TZOFFSETTO:+0200
TZNAME:EET
DTSTART:20251026T010000
END:STANDARD
BEGIN:DAYLIGHT
TZOFFSETFROM:+0200
TZOFFSETTO:+0300
TZNAME:EEST
DTSTART:20260329T010000
END:DAYLIGHT
BEGIN:STANDARD
TZOFFSETFROM:+0300
TZOFFSETTO:+0200
TZNAME:EET
DTSTART:20261025T010000
END:STANDARD
END:VTIMEZONE
BEGIN:VEVENT
DTSTART;TZID=Europe/Helsinki:20251126T140000
DTEND;TZID=Europe/Helsinki:20251126T170000
DTSTAMP:20260423T005146
CREATED:20251110T135933Z
LAST-MODIFIED:20251110T135933Z
UID:411-1764165600-1764176400@stolze-huesli.ch
SUMMARY:Gemeinsames Kranzen
DESCRIPTION:Gemeinsames Kranzen\n mit Margrit Frankhauser\nWir binden wunderschöne Adventskränze und bringen Tannenduft ins Haus  \nℹ️ Die Veranstaltung ist offen für Kinder ab dem Kindergartenalter mit Begleitperson.\n Und wie immer gilt: Alles läuft auf Kollektenbasis – gib so viel\, wie für dich passt.
URL:https://stolze-huesli.ch/event/gemeinsames-kranzen/
ATTACH;FMTTYPE=image/jpeg:https://stolze-huesli.ch/wp-content/uploads/2025/11/Flyer_HuesliAdvent_25-scaled-e1762783208506.jpg
END:VEVENT
BEGIN:VEVENT
DTSTART;TZID=Europe/Helsinki:20251101T200000
DTEND;TZID=Europe/Helsinki:20251101T210000
DTSTAMP:20260423T005146
CREATED:20251008T091527Z
LAST-MODIFIED:20251008T091527Z
UID:395-1762027200-1762030800@stolze-huesli.ch
SUMMARY:Konzert Trio Schmid–Rojas–Gutmann
DESCRIPTION:Konzert im Stolzehüsli \nTrio Schmid – Rojas – Gutmann \n\nSamstag\, 1. November 2025 / 20:00 Uhr \nPeter A. Schmid – Bassklarinette\, Taragot\, Saxofone \nJerry Rojas – elektrische & akustische Gitarren \nPit Gutmann – Perkussion\, Klangobjekte \nExperimenteller Kammerjazz mit rockigem Einschlag – zwischen Struktur und Freiheit\, Komposition und Improvisation. \nDas Trio Schmid–Rojas–Gutmann verbindet (Bass-)Holzblasinstrumente\, Gitarre und Perkussion zu einer lebendigen Klangreise voller Energie\, Spielfreude und überraschender Wendungen. \nDie Musiker kennen sich seit Jahrzehnten – ihre Musik ist eingespielt\, offen und immer auf der Suche nach neuen Klangräumen.
URL:https://stolze-huesli.ch/event/konzert-trio-schmid-rojas-gutmann/
ATTACH;FMTTYPE=image/jpeg:https://stolze-huesli.ch/wp-content/uploads/2025/10/KonzertTrioSchmidRojasGutmann_stolzehuesli252-scaled.jpg
END:VEVENT
BEGIN:VEVENT
DTSTART;TZID=Europe/Helsinki:20251031T160000
DTEND;TZID=Europe/Helsinki:20251031T200000
DTSTAMP:20260423T005146
CREATED:20251008T090835Z
LAST-MODIFIED:20251008T090835Z
UID:388-1761926400-1761940800@stolze-huesli.ch
SUMMARY:Halloween im Stolzehüsli
DESCRIPTION:Halloween im Stolzehüsli\nDonnerstag\, 31. Oktober | 16–20 Uhr\n Gruselig schön wird’s an Halloween! Wir schminken kleine Monster\, Hexen und Geister\, wärmen uns mit Suppe und stossen mit Glühwein an.\n\n Wir suchen noch Freiwillige\, die Lust hätten auf Kinderschminken. Wir stellen das Material\, du bringst die Kreativität. Melde dich einfach bei soziokultur@stolze-huesli.ch.\nℹ️ Beide Veranstaltungen sind offen für Kinder ab dem Kindergartenalter mit Begleitperson.\n Und wie immer gilt: Alles läuft auf Kollektenbasis – gib so viel\, wie für dich passt.
URL:https://stolze-huesli.ch/event/halloween-im-stolzehuesli/
ATTACH;FMTTYPE=image/jpeg:https://stolze-huesli.ch/wp-content/uploads/2025/10/Stolzehuesli_Halloween25-scaled.jpg
END:VEVENT
BEGIN:VEVENT
DTSTART;TZID=Europe/Helsinki:20251029T140000
DTEND;TZID=Europe/Helsinki:20251029T170000
DTSTAMP:20260423T005146
CREATED:20251008T090711Z
LAST-MODIFIED:20251008T090911Z
UID:385-1761746400-1761757200@stolze-huesli.ch
SUMMARY:Kürbisschnitzen
DESCRIPTION:Kürbisschnitzen\nMittwoch\, 29. Oktober | 14–17 Uhr\n Die Kürbisse warten schon auf euch – ihr müsst nur euer Schnitzwerkzeug mitbringen!\n Ob schaurig\, lustig oder einfach nur schön – wir freuen uns auf eure Kunstwerke. (Für den Notfall haben wir ein paar Werkzeuge vor Ort.) \nℹ️ Veranstaltung ist offen für Kinder ab dem Kindergartenalter mit Begleitperson.\n Und wie immer gilt: Alles läuft auf Kollektenbasis – gib so viel\, wie für dich passt.
URL:https://stolze-huesli.ch/event/kuerbisschnitzen/
ATTACH;FMTTYPE=image/jpeg:https://stolze-huesli.ch/wp-content/uploads/2025/10/Stolzehuesli_Halloween25-scaled.jpg
END:VEVENT
BEGIN:VEVENT
DTSTART;TZID=Europe/Helsinki:20251023T180000
DTEND;TZID=Europe/Helsinki:20251023T220000
DTSTAMP:20260423T005146
CREATED:20251008T091145Z
LAST-MODIFIED:20251008T091145Z
UID:392-1761242400-1761256800@stolze-huesli.ch
SUMMARY:Dunnstigs-Jass
DESCRIPTION:Juhuu – die zweite Runde Dunnstigs-Jass im Stolzehüsli steht an! \nAm 23. Oktober 18-22 Uhr wird wieder gejasst: Mitmachen können alle – von Jung bis Alt\, vom Newbie bis zum Profi. Hauptsache\, es macht euch Spass! \nMeldet euch als 2er-Team mit eurem Teamnamen an. Die Plätze sind begrenzt – also schnell sein ♥️ \n Anmeldung an: lea.vogel@stolze-openair.ch
URL:https://stolze-huesli.ch/event/dunnstigs-jass-2/
ATTACH;FMTTYPE=image/png:https://stolze-huesli.ch/wp-content/uploads/2025/10/Bildschirmfoto-2025-09-27-um-23.14.24.png
END:VEVENT
BEGIN:VEVENT
DTSTART;TZID=Europe/Helsinki:20251002T190000
DTEND;TZID=Europe/Helsinki:20251002T200000
DTSTAMP:20260423T005146
CREATED:20250820T134805Z
LAST-MODIFIED:20250820T134805Z
UID:373-1759431600-1759435200@stolze-huesli.ch
SUMMARY:Yoga auf der Stolzewiese
DESCRIPTION:Komm vorbei zum wöchentlichen Yoga – ganz egal\, ob du zum ersten Mal dabei bist oder schon Erfahrung hast. Alle sind willkommen. Bring dein eigenes Mätteli mit (wir haben auch ein paar auf Reserve). \nJeden Donnerstag um 19:00 Uhr – 3. Juli bis 2. Oktober \nBeitrag: ab 15.– \nFalls das finanziell nicht drinliegt\, komm trotzdem – sprich uns einfach an\, wir finden eine Lösung \n❗Bei Regen fällt’s aus
URL:https://stolze-huesli.ch/event/yoga-auf-der-stolzewiese-4/
ATTACH;FMTTYPE=image/jpeg:https://stolze-huesli.ch/wp-content/uploads/2025/06/photo_2025-06-23-12.37.51.jpg
END:VEVENT
BEGIN:VEVENT
DTSTART;TZID=Europe/Helsinki:20250925T190000
DTEND;TZID=Europe/Helsinki:20250925T200000
DTSTAMP:20260423T005146
CREATED:20250820T134743Z
LAST-MODIFIED:20250820T134743Z
UID:371-1758826800-1758830400@stolze-huesli.ch
SUMMARY:Yoga auf der Stolzewiese
DESCRIPTION:Komm vorbei zum wöchentlichen Yoga – ganz egal\, ob du zum ersten Mal dabei bist oder schon Erfahrung hast. Alle sind willkommen. Bring dein eigenes Mätteli mit (wir haben auch ein paar auf Reserve). \nJeden Donnerstag um 19:00 Uhr – 3. Juli bis 2. Oktober \nBeitrag: ab 15.– \nFalls das finanziell nicht drinliegt\, komm trotzdem – sprich uns einfach an\, wir finden eine Lösung \n❗Bei Regen fällt’s aus
URL:https://stolze-huesli.ch/event/yoga-auf-der-stolzewiese-3/
ATTACH;FMTTYPE=image/jpeg:https://stolze-huesli.ch/wp-content/uploads/2025/06/photo_2025-06-23-12.37.51.jpg
END:VEVENT
BEGIN:VEVENT
DTSTART;TZID=Europe/Helsinki:20250918T190000
DTEND;TZID=Europe/Helsinki:20250918T200000
DTSTAMP:20260423T005146
CREATED:20250820T134713Z
LAST-MODIFIED:20250820T134726Z
UID:368-1758222000-1758225600@stolze-huesli.ch
SUMMARY:Yoga auf der Stolzewiese
DESCRIPTION:Komm vorbei zum wöchentlichen Yoga – ganz egal\, ob du zum ersten Mal dabei bist oder schon Erfahrung hast. Alle sind willkommen. Bring dein eigenes Mätteli mit (wir haben auch ein paar auf Reserve). \nJeden Donnerstag um 19:00 Uhr – 3. Juli bis 2. Oktober \nBeitrag: ab 15.– \nFalls das finanziell nicht drinliegt\, komm trotzdem – sprich uns einfach an\, wir finden eine Lösung \n❗Bei Regen fällt’s aus
URL:https://stolze-huesli.ch/event/yoga-auf-der-stolzewiese-duplicate/
ATTACH;FMTTYPE=image/jpeg:https://stolze-huesli.ch/wp-content/uploads/2025/06/photo_2025-06-23-12.37.51.jpg
END:VEVENT
BEGIN:VEVENT
DTSTART;TZID=Europe/Helsinki:20250911T190000
DTEND;TZID=Europe/Helsinki:20250911T200000
DTSTAMP:20260423T005146
CREATED:20250820T134652Z
LAST-MODIFIED:20250820T134652Z
UID:366-1757617200-1757620800@stolze-huesli.ch
SUMMARY:Yoga auf der Stolzewiese
DESCRIPTION:Komm vorbei zum wöchentlichen Yoga – ganz egal\, ob du zum ersten Mal dabei bist oder schon Erfahrung hast. Alle sind willkommen. Bring dein eigenes Mätteli mit (wir haben auch ein paar auf Reserve). \nJeden Donnerstag um 19:00 Uhr – 3. Juli bis 2. Oktober \nBeitrag: ab 15.– \nFalls das finanziell nicht drinliegt\, komm trotzdem – sprich uns einfach an\, wir finden eine Lösung \n❗Bei Regen fällt’s aus
URL:https://stolze-huesli.ch/event/yoga-auf-der-stolzewiese-2/
ATTACH;FMTTYPE=image/jpeg:https://stolze-huesli.ch/wp-content/uploads/2025/06/photo_2025-06-23-12.37.51.jpg
END:VEVENT
BEGIN:VEVENT
DTSTART;TZID=Europe/Helsinki:20250904T190000
DTEND;TZID=Europe/Helsinki:20250904T200000
DTSTAMP:20260423T005146
CREATED:20250820T134626Z
LAST-MODIFIED:20250820T134626Z
UID:363-1757012400-1757016000@stolze-huesli.ch
SUMMARY:Yoga auf der Stolzewiese
DESCRIPTION:Komm vorbei zum wöchentlichen Yoga – ganz egal\, ob du zum ersten Mal dabei bist oder schon Erfahrung hast. Alle sind willkommen. Bring dein eigenes Mätteli mit (wir haben auch ein paar auf Reserve). \n Jeden Donnerstag um 19:00 Uhr – 3. Juli bis 2. Oktober \n Beitrag: ab 15.– \nFalls das finanziell nicht drinliegt\, komm trotzdem – sprich uns einfach an\, wir finden eine Lösung  \n❗Bei Regen fällt’s aus
URL:https://stolze-huesli.ch/event/yoga-auf-der-stolzewiese/
ATTACH;FMTTYPE=image/jpeg:https://stolze-huesli.ch/wp-content/uploads/2025/06/photo_2025-06-23-12.37.51.jpg
END:VEVENT
BEGIN:VEVENT
DTSTART;TZID=Europe/Helsinki:20250904T180000
DTEND;TZID=Europe/Helsinki:20250904T220000
DTSTAMP:20260423T005146
CREATED:20250820T135920Z
LAST-MODIFIED:20250820T135920Z
UID:378-1757008800-1757023200@stolze-huesli.ch
SUMMARY:Dunnstigs-Jass
DESCRIPTION:Juhuu\, der erste Dunnstigs-Jass im Stolzehüsli steht an! \nAm 4. September ist es soweit – beim Jassturnier können alle mitspielen: von Jung bis Alt\, vom Newbie bis zum Profi. Hauptsache\, es macht euch Spass! \nMeldet euch direkt als 2er-Team mit eurem Teamnamen an. Die Plätze sind begrenzt – also better be quick ♥️ \n Anmeldung an: lea.vogel@stolze-openair.ch
URL:https://stolze-huesli.ch/event/dunnstigs-jass/
ATTACH;FMTTYPE=image/jpeg:https://stolze-huesli.ch/wp-content/uploads/2025/08/8f04dc46-10b8-4603-879b-8c3a6778f657.jpg
END:VEVENT
BEGIN:VEVENT
DTSTART;TZID=Europe/Helsinki:20250830T203000
DTEND;TZID=Europe/Helsinki:20250830T230000
DTSTAMP:20260423T005146
CREATED:20250820T135629Z
LAST-MODIFIED:20250820T135629Z
UID:375-1756585800-1756594800@stolze-huesli.ch
SUMMARY:Freiluftkino: Vogelperspektive
DESCRIPTION:Bald ist es soweit! Gemeinsam mit esbizli film laden wir euch herzlich zu unserem ersten Filmabend unter freiem Himmel ein. \nMit VOGELPERSPEKTIVE feiern wir in fünf Kurzfilmen unsere gefiederten Freund*innen – und alle Menschen\, die sie zu schätzen wissen. \nSamstag\, 30. August 2025 20:30 Uhr \nStolzewiese\, Zürich \nGezeigt werden: \nLES MYSTÉRIEUSES AVENTURES DE CLAUDE CONSEIL von Marie-Lola Terver & Paul Jousselin 23 Min | Spielfilm | Frankreich \nNEAREST NEIGHBOR von Rebecca Baron & Douglas Goodwin 22 Min | Experimentalfilm | USA \nOSTRICH von Marie Kenov 8 Min | Animationsfilm | Schweiz \nLOS QUE DESEAN / THOSE WHO DESIRE von Elena López Riera 24 Min | Dokumentarfilm | Schweiz\, Spanien \nPÁSSARO MEMÓRIA / A BIRD CALLED MEMORY von Leonardo Martinelli 15 Min | Spielfilm | Brasilien \nEin grosses Dankeschön an Migros Kulturprozent und Kurzfilmtage Winterthur für die Unterstützung!
URL:https://stolze-huesli.ch/event/freiluftkino-vogelperspektive/
ATTACH;FMTTYPE=image/jpeg:https://stolze-huesli.ch/wp-content/uploads/2025/08/IMG_9903.jpg
END:VEVENT
BEGIN:VEVENT
DTSTART;TZID=Europe/Helsinki:20250613T160000
DTEND;TZID=Europe/Helsinki:20250613T220000
DTSTAMP:20260423T005146
CREATED:20250605T170835Z
LAST-MODIFIED:20250605T170835Z
UID:341-1749830400-1749852000@stolze-huesli.ch
SUMMARY:Transparent-Malen zum feministischen Streik
DESCRIPTION:
URL:https://stolze-huesli.ch/event/transparent-malen-zum-feministischen-streik/
ATTACH;FMTTYPE=image/jpeg:https://stolze-huesli.ch/wp-content/uploads/2025/06/PHOTO-2025-06-04-18-29-45.jpg
END:VEVENT
BEGIN:VEVENT
DTSTART;TZID=Europe/Helsinki:20250525T170000
DTEND;TZID=Europe/Helsinki:20250525T180000
DTSTAMP:20260423T005146
CREATED:20250521T160057Z
LAST-MODIFIED:20250605T170920Z
UID:330-1748192400-1748196000@stolze-huesli.ch
SUMMARY:Stolzehüsli liest: Peter Neumann
DESCRIPTION:Lesung mit Peter Neumann und seinem Buch «Der Reisläufer und das Blutgericht von Zürich» \nPeter Neumann\, manche von euch kennen ihn vielleicht aus dem Quartier\, hat einen historischen Roman geschrieben und liest kommenden Sonntag daraus. \n«Der Reisläufer und das Blutgericht von Zürich» entführt uns ins Jahr 1515\, eine Zeit des Umbruchs und der Intrigen. Im Mittelpunkt steht der junge Samuel Alder aus Küsnacht\, der als Reisläufer in den Krieg zieht und nach seiner Rückkehr in ein Zürich voller Unruhe und Machtspiele gerät. Illustriert mit Zeichnungen von Urs Graf\, bietet das Buch einen packenden Einblick in die Schweizer Geschichte.
URL:https://stolze-huesli.ch/event/stolzehuesli-liest-peter-neumann/
ATTACH;FMTTYPE=image/jpeg:https://stolze-huesli.ch/wp-content/uploads/2025/05/Der_Reislaeufer_l.jpg
END:VEVENT
BEGIN:VEVENT
DTSTART;TZID=Europe/Helsinki:20250308T200000
DTEND;TZID=Europe/Helsinki:20250308T210000
DTSTAMP:20260423T005146
CREATED:20250304T145959Z
LAST-MODIFIED:20250304T150222Z
UID:300-1741464000-1741467600@stolze-huesli.ch
SUMMARY:Lesung mit Maria Zimmermann und ihrem Buch «Anders – nicht falsch»
DESCRIPTION:Lesung mit Maria Zimmermann und ihrem Buch «Anders – nicht falsch» \n\n März\, 20:00 Uhr\n\nAm Internationalen Frauentag laden wir euch ein zu einer besonderen Begegnung mit der Autorin und Illustratorin Maria Zimmermann. Mit ihrem Buch Anders – nicht falsch hat sie nicht nur eine persönliche Reise in Worte und Bilder gefasst\, sondern auch eine neue Sprache für ihre Autistische Wahrnehmung gefunden – eine\, die beschreibt\, ohne zu bewerten. \nMaria spricht von Entdeckung\, nicht Diagnose. Von Eigenheiten\, nicht Schwierigkeiten. Von Anderssein\, nicht falsch sein. \nKommt vorbei\, wir freuen uns auf euch!
URL:https://stolze-huesli.ch/event/einladung-zur-lesung-mit-maria-zimmermann-und-ihrem-buch-anders-nicht-falsch/
ATTACH;FMTTYPE=image/png:https://stolze-huesli.ch/wp-content/uploads/2025/03/Bildschirmfoto-2025-03-04-um-16.01.50.png
END:VEVENT
BEGIN:VEVENT
DTSTART;TZID=Europe/Helsinki:20250226T183000
DTEND;TZID=Europe/Helsinki:20250302T220000
DTSTAMP:20260423T005146
CREATED:20250210T054628Z
LAST-MODIFIED:20250210T054628Z
UID:289-1740594600-1740952800@stolze-huesli.ch
SUMMARY:Stolze Fondue
DESCRIPTION:Liebe Freund*innen\, Unterstützer*innen und Fondue-Fans \nDas letzte Stolze Openair liegt schon länger zurück\, genauso wie das nächste noch vor uns liegt. Wir vom OK befinden uns gerade in der Startphase der diesjährigen Planung. Es ist ein guter Zeitpunkt\, um kurz Bilanz zu ziehen: Das Openair ist gratis und nicht profit-orientiert. Unsere Kosten werden daher durch Spenden und den Getränkeverkauf gedeckt. Wenn es in einem Jahr nicht rosig läuft\, macht sich das im nächsten Jahr spürbar. \nUm das Stolze Openair 2025 durchführen zu können\, müssen wir daher zuerst unser Kässeli auffüllen – und unsere Caquelons mit Käse! \nDas save-the-Stolze Openair Soli-Fondue geht in die dritte Runde\, dieses Jahr im UG des Stolzehüsli! \nDaten: 19. – 23. Februar & 26. – 2. März\nUhrzeit: jeweils ab 18:30 Uhr\nPreis: 65.- pro Person (inkl. Fondue\, Salat\, Kaffee und Solidaritätsbeitrag) \nBitte reserviert unter folgendem Link: \nReservierungsformular\nWir freuen uns auf gemütliche Fondue-Abende mit euch und natürlich hoffentlich auf das 22. Stolze Openair am 21. und 22. Juni 2025! \nEuer Stolze Openair OK
URL:https://stolze-huesli.ch/event/stolze-fondue-2/
LOCATION:Stolzehüsli\, Ottikerstrasse 51\, Zürich\, Zürich\, 8006\, Switzerland
ATTACH;FMTTYPE=image/jpeg:https://stolze-huesli.ch/wp-content/uploads/2025/02/flyer_stolze-soli-fondue-small.jpg
END:VEVENT
BEGIN:VEVENT
DTSTART;TZID=Europe/Helsinki:20250219T183000
DTEND;TZID=Europe/Helsinki:20250223T220000
DTSTAMP:20260423T005146
CREATED:20250210T053402Z
LAST-MODIFIED:20250210T053426Z
UID:278-1739989800-1740348000@stolze-huesli.ch
SUMMARY:Stolze Fondue
DESCRIPTION:Liebe Freund*innen\, Unterstützer*innen und Fondue-Fans \nDas letzte Stolze Openair liegt schon länger zurück\, genauso wie das nächste noch vor uns liegt. Wir vom OK befinden uns gerade in der Startphase der diesjährigen Planung. Es ist ein guter Zeitpunkt\, um kurz Bilanz zu ziehen: Das Openair ist gratis und nicht profit-orientiert. Unsere Kosten werden daher durch Spenden und den Getränkeverkauf gedeckt. Wenn es in einem Jahr nicht rosig läuft\, macht sich das im nächsten Jahr spürbar. \nUm das Stolze Openair 2025 durchführen zu können\, müssen wir daher zuerst unser Kässeli auffüllen – und unsere Caquelons mit Käse! \nDas save-the-Stolze Openair Soli-Fondue geht in die dritte Runde\, dieses Jahr im UG des Stolzehüsli! \nDaten: 19. – 23. Februar & 26. – 2. März\nUhrzeit: jeweils ab 18:30 Uhr\nPreis: 65.- pro Person (inkl. Fondue\, Salat\, Kaffee und Solidaritätsbeitrag) \nBitte reserviert unter folgendem Link: \nReservierungsformular\nWir freuen uns auf gemütliche Fondue-Abende mit euch und natürlich hoffentlich auf das 22. Stolze Openair am 21. und 22. Juni 2025! \nEuer Stolze Openair OK
URL:https://stolze-huesli.ch/event/stolze-fondue/
LOCATION:Stolzehüsli\, Ottikerstrasse 51\, Zürich\, Zürich\, 8006\, Switzerland
ATTACH;FMTTYPE=image/jpeg:https://stolze-huesli.ch/wp-content/uploads/2025/02/flyer_stolze-soli-fondue-small.jpg
END:VEVENT
END:VCALENDAR