BEGIN:VCALENDAR
VERSION:2.0
PRODID:-//Stolzehüsli - ECPv6.15.20//NONSGML v1.0//EN
CALSCALE:GREGORIAN
METHOD:PUBLISH
X-ORIGINAL-URL:https://stolze-huesli.ch
X-WR-CALDESC:Veranstaltungen im Stolzehüsli
REFRESH-INTERVAL;VALUE=DURATION:PT1H
X-Robots-Tag:noindex
X-PUBLISHED-TTL:PT1H
BEGIN:VTIMEZONE
TZID:Europe/Helsinki
BEGIN:DAYLIGHT
TZOFFSETFROM:+0200
TZOFFSETTO:+0300
TZNAME:EEST
DTSTART:20250330T010000
END:DAYLIGHT
BEGIN:STANDARD
TZOFFSETFROM:+0300
TZOFFSETTO:+0200
TZNAME:EET
DTSTART:20251026T010000
END:STANDARD
BEGIN:DAYLIGHT
TZOFFSETFROM:+0200
TZOFFSETTO:+0300
TZNAME:EEST
DTSTART:20260329T010000
END:DAYLIGHT
BEGIN:STANDARD
TZOFFSETFROM:+0300
TZOFFSETTO:+0200
TZNAME:EET
DTSTART:20261025T010000
END:STANDARD
BEGIN:DAYLIGHT
TZOFFSETFROM:+0200
TZOFFSETTO:+0300
TZNAME:EEST
DTSTART:20270328T010000
END:DAYLIGHT
BEGIN:STANDARD
TZOFFSETFROM:+0300
TZOFFSETTO:+0200
TZNAME:EET
DTSTART:20271031T010000
END:STANDARD
END:VTIMEZONE
BEGIN:VEVENT
DTSTART;TZID=Europe/Helsinki:20260422T120000
DTEND;TZID=Europe/Helsinki:20260422T140000
DTSTAMP:20260423T005338
CREATED:20260422T090159Z
LAST-MODIFIED:20260422T090159Z
UID:542-1776859200-1776866400@stolze-huesli.ch
SUMMARY:Zmittag im Stolzehüsli
DESCRIPTION:Vom 22.4. bis 3.6. machen wir neu im Stolzehüsli einen Mittagstisch mit wechselndem\, saisonalem Menü von unserer Köchin Samira. Letzte Woche hat sie zum Beispiel ein unglaublich leckeres Curry für uns gezaubert. Der Mittagstisch ist offen von 12:00 – 14:00 Uhr und findet bei jedem Wetter statt. Morgen ist’s schon zum ersten Mal soweit\, kommt vorbei!\n\n\n\n\n\n\nHabt ihr auf etwas besonders Lust oder gute Ideen für Gerichte? Schreibt uns an esse@stolze-huesli.ch.
URL:https://stolze-huesli.ch/event/zmittag-im-stolzehuesli/
ATTACH;FMTTYPE=image/jpeg:https://stolze-huesli.ch/wp-content/uploads/2026/04/26_SH_Zmittagfin-scaled.jpg
END:VEVENT
BEGIN:VEVENT
DTSTART;TZID=Europe/Helsinki:20260429T120000
DTEND;TZID=Europe/Helsinki:20260429T140000
DTSTAMP:20260423T005338
CREATED:20260422T090219Z
LAST-MODIFIED:20260422T090226Z
UID:544-1777464000-1777471200@stolze-huesli.ch
SUMMARY:Zmittag im Stolzehüsli
DESCRIPTION:Vom 22.4. bis 3.6. machen wir neu im Stolzehüsli einen Mittagstisch mit wechselndem\, saisonalem Menü von unserer Köchin Samira. Letzte Woche hat sie zum Beispiel ein unglaublich leckeres Curry für uns gezaubert. Der Mittagstisch ist offen von 12:00 – 14:00 Uhr und findet bei jedem Wetter statt. Morgen ist’s schon zum ersten Mal soweit\, kommt vorbei!\n\n\n\n\n\n\nHabt ihr auf etwas besonders Lust oder gute Ideen für Gerichte? Schreibt uns an esse@stolze-huesli.ch.
URL:https://stolze-huesli.ch/event/zmittag-im-stolzehuesli-duplicate/
ATTACH;FMTTYPE=image/jpeg:https://stolze-huesli.ch/wp-content/uploads/2026/04/26_SH_Zmittagfin-scaled.jpg
END:VEVENT
BEGIN:VEVENT
DTSTART;TZID=Europe/Helsinki:20260505T180000
DTEND;TZID=Europe/Helsinki:20260505T193000
DTSTAMP:20260423T005338
CREATED:20260422T091117Z
LAST-MODIFIED:20260422T091117Z
UID:572-1778004000-1778009400@stolze-huesli.ch
SUMMARY:Improvisationstheater mit Tania
DESCRIPTION:Alles darf sein\, die Ideen entstehen aus dem Moment\, einer Bewegung\, einem Wort\, einem Gefühl. Einfach mal ausprobieren\, was passiert\, wenn man loslässt und nichts plant! Tania Berchtold Dellberg\, Kommunikations- und Improtheater-Trainerin\, lädt euch ein\, es zu erleben. Tania Berchtold Dellberg\, Kommunikations- und Improtheater-Trainerin\, lädt euch ein\, es auszuprobieren.\n\n\n\n\n\n\nHerzlich willkommen sind alle zwischen 9 und 99 Jahren\, ohne Vorkenntnisse\, nur mit Neugierde.\n\n\n\n\n\n\n📅 Dienstag\, 5. Mai 2026\, 18:00 bis 19:30 Uhr mit anschliessendem Apéro!\n\n\n\n\n\n\nAnmeldung bis 28. April an info@konfliktleichtigkeit.ch Kosten: freier Beitrag | Durchführung ab 6 bis max. 10 Personen
URL:https://stolze-huesli.ch/event/improvisationstheater-mit-tania/
ATTACH;FMTTYPE=image/jpeg:https://stolze-huesli.ch/wp-content/uploads/2026/02/IMG_3640-scaled.jpg
END:VEVENT
BEGIN:VEVENT
DTSTART;TZID=Europe/Helsinki:20260506T120000
DTEND;TZID=Europe/Helsinki:20260506T140000
DTSTAMP:20260423T005338
CREATED:20260422T090246Z
LAST-MODIFIED:20260422T090246Z
UID:547-1778068800-1778076000@stolze-huesli.ch
SUMMARY:Zmittag im Stolzehüsli
DESCRIPTION:Vom 22.4. bis 3.6. machen wir neu im Stolzehüsli einen Mittagstisch mit wechselndem\, saisonalem Menü von unserer Köchin Samira. Letzte Woche hat sie zum Beispiel ein unglaublich leckeres Curry für uns gezaubert. Der Mittagstisch ist offen von 12:00 – 14:00 Uhr und findet bei jedem Wetter statt. Morgen ist’s schon zum ersten Mal soweit\, kommt vorbei!\n\n\n\n\n\n\nHabt ihr auf etwas besonders Lust oder gute Ideen für Gerichte? Schreibt uns an esse@stolze-huesli.ch.
URL:https://stolze-huesli.ch/event/zmittag-im-stolzehuesli-2/
ATTACH;FMTTYPE=image/jpeg:https://stolze-huesli.ch/wp-content/uploads/2026/04/26_SH_Zmittagfin-scaled.jpg
END:VEVENT
BEGIN:VEVENT
DTSTART;TZID=Europe/Helsinki:20260506T140000
DTEND;TZID=Europe/Helsinki:20260506T170000
DTSTAMP:20260423T005338
CREATED:20260320T095924Z
LAST-MODIFIED:20260320T100505Z
UID:522-1778076000-1778086800@stolze-huesli.ch
SUMMARY:Spielmobil
DESCRIPTION:Im Mai ist das Spielmobil vom GZ Schindlergut jeden Mittwoch bei uns auf der Stolzewiese zu Gast\, am 6.\, 13.\, 20. und 27. Mai\, jeweils von 14:00 bis 17:00 Uhr. Spielen\, reden\, neue Kontakte knüpfen\, einfach vorbeikommen!
URL:https://stolze-huesli.ch/event/spielmobil/
ATTACH;FMTTYPE=image/jpeg:https://stolze-huesli.ch/wp-content/uploads/2026/03/Spielmobil.jpg
END:VEVENT
BEGIN:VEVENT
DTSTART;TZID=Europe/Helsinki:20260509T100000
DTEND;TZID=Europe/Helsinki:20260509T220000
DTSTAMP:20260423T005338
CREATED:20260204T180435Z
LAST-MODIFIED:20260204T180435Z
UID:503-1778320800-1778364000@stolze-huesli.ch
SUMMARY:Eröffnung Sommersaison
DESCRIPTION:Wir freuen uns riesig am 09. Mai 2026 die Sommersaison im Stolzehüsli zu eröffnen. \nMehr Infos folgen bald
URL:https://stolze-huesli.ch/event/eroeffnung-sommersaison/
ATTACH;FMTTYPE=image/jpeg:https://stolze-huesli.ch/wp-content/uploads/2025/05/photo_2025-05-18-23.51.14.jpeg
END:VEVENT
BEGIN:VEVENT
DTSTART;TZID=Europe/Helsinki:20260512T190000
DTEND;TZID=Europe/Helsinki:20260512T200000
DTSTAMP:20260423T005338
CREATED:20260422T090710Z
LAST-MODIFIED:20260422T090710Z
UID:559-1778612400-1778616000@stolze-huesli.ch
SUMMARY:Yoga auf der Stolzewiese
DESCRIPTION:Komm vorbei zum wöchentlichen Yoga – ganz egal\, ob du zum ersten Mal dabei bist oder schon Erfahrung hast. Alle sind willkommen. Bring dein eigenes Mätteli mit. \nJeden Dienstag um 19:00 Uhr ab 12. Mai 2026 \nBeitrag: ab 15.– \nFalls das finanziell nicht drinliegt\, komm trotzdem – sprich uns einfach an\, wir finden eine Lösung \n❗Bei Regen fällt’s aus
URL:https://stolze-huesli.ch/event/yoga-auf-der-stolzewiese-5/
ATTACH;FMTTYPE=image/jpeg:https://stolze-huesli.ch/wp-content/uploads/2025/06/photo_2025-06-23-12.37.51.jpg
END:VEVENT
BEGIN:VEVENT
DTSTART;TZID=Europe/Helsinki:20260513T120000
DTEND;TZID=Europe/Helsinki:20260513T140000
DTSTAMP:20260423T005338
CREATED:20260422T090311Z
LAST-MODIFIED:20260422T090311Z
UID:549-1778673600-1778680800@stolze-huesli.ch
SUMMARY:Zmittag im Stolzehüsli
DESCRIPTION:Vom 22.4. bis 3.6. machen wir neu im Stolzehüsli einen Mittagstisch mit wechselndem\, saisonalem Menü von unserer Köchin Samira. Letzte Woche hat sie zum Beispiel ein unglaublich leckeres Curry für uns gezaubert. Der Mittagstisch ist offen von 12:00 – 14:00 Uhr und findet bei jedem Wetter statt. Morgen ist’s schon zum ersten Mal soweit\, kommt vorbei!\n\n\n\n\n\n\nHabt ihr auf etwas besonders Lust oder gute Ideen für Gerichte? Schreibt uns an esse@stolze-huesli.ch.
URL:https://stolze-huesli.ch/event/zmittag-im-stolzehuesli-3/
ATTACH;FMTTYPE=image/jpeg:https://stolze-huesli.ch/wp-content/uploads/2026/04/26_SH_Zmittagfin-scaled.jpg
END:VEVENT
BEGIN:VEVENT
DTSTART;TZID=Europe/Helsinki:20260513T140000
DTEND;TZID=Europe/Helsinki:20260513T170000
DTSTAMP:20260423T005338
CREATED:20260320T100525Z
LAST-MODIFIED:20260320T100525Z
UID:524-1778680800-1778691600@stolze-huesli.ch
SUMMARY:Spielmobil
DESCRIPTION:Im Mai ist das Spielmobil vom GZ Schindlergut jeden Mittwoch bei uns auf der Stolzewiese zu Gast\, am 6.\, 13.\, 20. und 27. Mai\, jeweils von 14:00 bis 17:00 Uhr. Spielen\, reden\, neue Kontakte knüpfen\, einfach vorbeikommen!
URL:https://stolze-huesli.ch/event/spielmobil-2/
ATTACH;FMTTYPE=image/jpeg:https://stolze-huesli.ch/wp-content/uploads/2026/03/Spielmobil.jpg
END:VEVENT
BEGIN:VEVENT
DTSTART;TZID=Europe/Helsinki:20260519T190000
DTEND;TZID=Europe/Helsinki:20260519T200000
DTSTAMP:20260423T005338
CREATED:20260422T090733Z
LAST-MODIFIED:20260422T090733Z
UID:561-1779217200-1779220800@stolze-huesli.ch
SUMMARY:Yoga auf der Stolzewiese
DESCRIPTION:Komm vorbei zum wöchentlichen Yoga – ganz egal\, ob du zum ersten Mal dabei bist oder schon Erfahrung hast. Alle sind willkommen. Bring dein eigenes Mätteli mit. \nJeden Dienstag um 19:00 Uhr ab 12. Mai 2026 \nBeitrag: ab 15.– \nFalls das finanziell nicht drinliegt\, komm trotzdem – sprich uns einfach an\, wir finden eine Lösung \n❗Bei Regen fällt’s aus
URL:https://stolze-huesli.ch/event/yoga-auf-der-stolzewiese-6/
ATTACH;FMTTYPE=image/jpeg:https://stolze-huesli.ch/wp-content/uploads/2025/06/photo_2025-06-23-12.37.51.jpg
END:VEVENT
BEGIN:VEVENT
DTSTART;TZID=Europe/Helsinki:20260520T120000
DTEND;TZID=Europe/Helsinki:20260520T140000
DTSTAMP:20260423T005338
CREATED:20260422T090328Z
LAST-MODIFIED:20260422T090328Z
UID:551-1779278400-1779285600@stolze-huesli.ch
SUMMARY:Zmittag im Stolzehüsli
DESCRIPTION:Vom 22.4. bis 3.6. machen wir neu im Stolzehüsli einen Mittagstisch mit wechselndem\, saisonalem Menü von unserer Köchin Samira. Letzte Woche hat sie zum Beispiel ein unglaublich leckeres Curry für uns gezaubert. Der Mittagstisch ist offen von 12:00 – 14:00 Uhr und findet bei jedem Wetter statt. Morgen ist’s schon zum ersten Mal soweit\, kommt vorbei!\n\n\n\n\n\n\nHabt ihr auf etwas besonders Lust oder gute Ideen für Gerichte? Schreibt uns an esse@stolze-huesli.ch.
URL:https://stolze-huesli.ch/event/zmittag-im-stolzehuesli-4/
ATTACH;FMTTYPE=image/jpeg:https://stolze-huesli.ch/wp-content/uploads/2026/04/26_SH_Zmittagfin-scaled.jpg
END:VEVENT
BEGIN:VEVENT
DTSTART;TZID=Europe/Helsinki:20260520T140000
DTEND;TZID=Europe/Helsinki:20260520T170000
DTSTAMP:20260423T005338
CREATED:20260320T100542Z
LAST-MODIFIED:20260320T100542Z
UID:526-1779285600-1779296400@stolze-huesli.ch
SUMMARY:Spielmobil
DESCRIPTION:Im Mai ist das Spielmobil vom GZ Schindlergut jeden Mittwoch bei uns auf der Stolzewiese zu Gast\, am 6.\, 13.\, 20. und 27. Mai\, jeweils von 14:00 bis 17:00 Uhr. Spielen\, reden\, neue Kontakte knüpfen\, einfach vorbeikommen!
URL:https://stolze-huesli.ch/event/spielmobil-3/
ATTACH;FMTTYPE=image/jpeg:https://stolze-huesli.ch/wp-content/uploads/2026/03/Spielmobil.jpg
END:VEVENT
BEGIN:VEVENT
DTSTART;TZID=Europe/Helsinki:20260526T190000
DTEND;TZID=Europe/Helsinki:20260526T200000
DTSTAMP:20260423T005338
CREATED:20260422T090753Z
LAST-MODIFIED:20260422T090753Z
UID:563-1779822000-1779825600@stolze-huesli.ch
SUMMARY:Yoga auf der Stolzewiese
DESCRIPTION:Komm vorbei zum wöchentlichen Yoga – ganz egal\, ob du zum ersten Mal dabei bist oder schon Erfahrung hast. Alle sind willkommen. Bring dein eigenes Mätteli mit. \nJeden Dienstag um 19:00 Uhr ab 12. Mai 2026 \nBeitrag: ab 15.– \nFalls das finanziell nicht drinliegt\, komm trotzdem – sprich uns einfach an\, wir finden eine Lösung \n❗Bei Regen fällt’s aus
URL:https://stolze-huesli.ch/event/yoga-auf-der-stolzewiese-7/
ATTACH;FMTTYPE=image/jpeg:https://stolze-huesli.ch/wp-content/uploads/2025/06/photo_2025-06-23-12.37.51.jpg
END:VEVENT
BEGIN:VEVENT
DTSTART;TZID=Europe/Helsinki:20260527T120000
DTEND;TZID=Europe/Helsinki:20260527T140000
DTSTAMP:20260423T005338
CREATED:20260422T090347Z
LAST-MODIFIED:20260422T090347Z
UID:553-1779883200-1779890400@stolze-huesli.ch
SUMMARY:Zmittag im Stolzehüsli
DESCRIPTION:Vom 22.4. bis 3.6. machen wir neu im Stolzehüsli einen Mittagstisch mit wechselndem\, saisonalem Menü von unserer Köchin Samira. Letzte Woche hat sie zum Beispiel ein unglaublich leckeres Curry für uns gezaubert. Der Mittagstisch ist offen von 12:00 – 14:00 Uhr und findet bei jedem Wetter statt. Morgen ist’s schon zum ersten Mal soweit\, kommt vorbei!\n\n\n\n\n\n\nHabt ihr auf etwas besonders Lust oder gute Ideen für Gerichte? Schreibt uns an esse@stolze-huesli.ch.
URL:https://stolze-huesli.ch/event/zmittag-im-stolzehuesli-5/
ATTACH;FMTTYPE=image/jpeg:https://stolze-huesli.ch/wp-content/uploads/2026/04/26_SH_Zmittagfin-scaled.jpg
END:VEVENT
BEGIN:VEVENT
DTSTART;TZID=Europe/Helsinki:20260527T140000
DTEND;TZID=Europe/Helsinki:20260527T170000
DTSTAMP:20260423T005338
CREATED:20260320T100601Z
LAST-MODIFIED:20260320T101054Z
UID:528-1779890400-1779901200@stolze-huesli.ch
SUMMARY:Spielmobil
DESCRIPTION:Im Mai ist das Spielmobil vom GZ Schindlergut jeden Mittwoch bei uns auf der Stolzewiese zu Gast\, am 6.\, 13.\, 20. und 27. Mai\, jeweils von 14:00 bis 17:00 Uhr. Spielen\, reden\, neue Kontakte knüpfen\, einfach vorbeikommen!
URL:https://stolze-huesli.ch/event/spielmobil-4/
ATTACH;FMTTYPE=image/jpeg:https://stolze-huesli.ch/wp-content/uploads/2026/03/Spielmobil.jpg
END:VEVENT
BEGIN:VEVENT
DTSTART;TZID=Europe/Helsinki:20260602T190000
DTEND;TZID=Europe/Helsinki:20260602T200000
DTSTAMP:20260423T005338
CREATED:20260422T090817Z
LAST-MODIFIED:20260422T090817Z
UID:565-1780426800-1780430400@stolze-huesli.ch
SUMMARY:Yoga auf der Stolzewiese
DESCRIPTION:Komm vorbei zum wöchentlichen Yoga – ganz egal\, ob du zum ersten Mal dabei bist oder schon Erfahrung hast. Alle sind willkommen. Bring dein eigenes Mätteli mit. \nJeden Dienstag um 19:00 Uhr ab 12. Mai 2026 \nBeitrag: ab 15.– \nFalls das finanziell nicht drinliegt\, komm trotzdem – sprich uns einfach an\, wir finden eine Lösung \n❗Bei Regen fällt’s aus
URL:https://stolze-huesli.ch/event/yoga-auf-der-stolzewiese-8/
ATTACH;FMTTYPE=image/jpeg:https://stolze-huesli.ch/wp-content/uploads/2025/06/photo_2025-06-23-12.37.51.jpg
END:VEVENT
BEGIN:VEVENT
DTSTART;TZID=Europe/Helsinki:20260603T120000
DTEND;TZID=Europe/Helsinki:20260603T140000
DTSTAMP:20260423T005338
CREATED:20260422T090413Z
LAST-MODIFIED:20260422T090413Z
UID:555-1780488000-1780495200@stolze-huesli.ch
SUMMARY:Zmittag im Stolzehüsli
DESCRIPTION:Vom 22.4. bis 3.6. machen wir neu im Stolzehüsli einen Mittagstisch mit wechselndem\, saisonalem Menü von unserer Köchin Samira. Letzte Woche hat sie zum Beispiel ein unglaublich leckeres Curry für uns gezaubert. Der Mittagstisch ist offen von 12:00 – 14:00 Uhr und findet bei jedem Wetter statt. Morgen ist’s schon zum ersten Mal soweit\, kommt vorbei!\n\n\n\n\n\n\nHabt ihr auf etwas besonders Lust oder gute Ideen für Gerichte? Schreibt uns an esse@stolze-huesli.ch.
URL:https://stolze-huesli.ch/event/zmittag-im-stolzehuesli-6/
ATTACH;FMTTYPE=image/jpeg:https://stolze-huesli.ch/wp-content/uploads/2026/04/26_SH_Zmittagfin-scaled.jpg
END:VEVENT
BEGIN:VEVENT
DTSTART;TZID=Europe/Helsinki:20260604T180000
DTEND;TZID=Europe/Helsinki:20260604T220000
DTSTAMP:20260423T005338
CREATED:20260222T160547Z
LAST-MODIFIED:20260422T085944Z
UID:512-1780596000-1780610400@stolze-huesli.ch
SUMMARY:Dunnstigs-Jass
DESCRIPTION:Dunnstigs-Jass 🔔 \n Beim Jassturnier sind alle willkommen – ob jung oder alt\, Einsteiger oder Profi. Entscheidend ist einzig der Spass am Spiel. \nDie Anmeldung erfolgt direkt als 2er-Team inklusive Teamnamen. Die Teilnehmerzahl ist begrenzt\, daher lohnt sich eine rasche Anmeldung. \nAnmeldung: lea.vogel@stolze-openair.ch
URL:https://stolze-huesli.ch/event/dunnstigs-jass-4/
ATTACH;FMTTYPE=image/jpeg:https://stolze-huesli.ch/wp-content/uploads/2026/02/IMG_3640-scaled.jpg
END:VEVENT
BEGIN:VEVENT
DTSTART;TZID=Europe/Helsinki:20260616T190000
DTEND;TZID=Europe/Helsinki:20260616T200000
DTSTAMP:20260423T005338
CREATED:20260422T090846Z
LAST-MODIFIED:20260422T090852Z
UID:567-1781636400-1781640000@stolze-huesli.ch
SUMMARY:Yoga auf der Stolzewiese
DESCRIPTION:Komm vorbei zum wöchentlichen Yoga – ganz egal\, ob du zum ersten Mal dabei bist oder schon Erfahrung hast. Alle sind willkommen. Bring dein eigenes Mätteli mit. \nJeden Dienstag um 19:00 Uhr ab 12. Mai 2026 \nBeitrag: ab 15.– \nFalls das finanziell nicht drinliegt\, komm trotzdem – sprich uns einfach an\, wir finden eine Lösung \n❗Bei Regen fällt’s aus
URL:https://stolze-huesli.ch/event/yoga-auf-der-stolzewiese-duplicate-2/
ATTACH;FMTTYPE=image/jpeg:https://stolze-huesli.ch/wp-content/uploads/2025/06/photo_2025-06-23-12.37.51.jpg
END:VEVENT
BEGIN:VEVENT
DTSTART;TZID=Europe/Helsinki:20260623T190000
DTEND;TZID=Europe/Helsinki:20260623T200000
DTSTAMP:20260423T005338
CREATED:20260422T090912Z
LAST-MODIFIED:20260422T091008Z
UID:570-1782241200-1782244800@stolze-huesli.ch
SUMMARY:Yoga auf der Stolzewiese
DESCRIPTION:Komm vorbei zum wöchentlichen Yoga – ganz egal\, ob du zum ersten Mal dabei bist oder schon Erfahrung hast. Alle sind willkommen. Bring dein eigenes Mätteli mit. \nJeden Dienstag um 19:00 Uhr ab 12. Mai 2026 \nBeitrag: ab 15.– \nFalls das finanziell nicht drinliegt\, komm trotzdem – sprich uns einfach an\, wir finden eine Lösung \n❗Bei Regen fällt’s aus
URL:https://stolze-huesli.ch/event/yoga-auf-der-stolzewiese-9/
ATTACH;FMTTYPE=image/jpeg:https://stolze-huesli.ch/wp-content/uploads/2025/06/photo_2025-06-23-12.37.51.jpg
END:VEVENT
BEGIN:VEVENT
DTSTART;TZID=Europe/Helsinki:20260702T180000
DTEND;TZID=Europe/Helsinki:20260702T220000
DTSTAMP:20260423T005338
CREATED:20260422T085958Z
LAST-MODIFIED:20260422T085958Z
UID:538-1783015200-1783029600@stolze-huesli.ch
SUMMARY:Dunnstigs-Jass
DESCRIPTION:Dunnstigs-Jass 🔔 \n Beim Jassturnier sind alle willkommen – ob jung oder alt\, Einsteiger oder Profi. Entscheidend ist einzig der Spass am Spiel. \nDie Anmeldung erfolgt direkt als 2er-Team inklusive Teamnamen. Die Teilnehmerzahl ist begrenzt\, daher lohnt sich eine rasche Anmeldung. \nAnmeldung: lea.vogel@stolze-openair.ch
URL:https://stolze-huesli.ch/event/dunnstigs-jass-5/
ATTACH;FMTTYPE=image/jpeg:https://stolze-huesli.ch/wp-content/uploads/2026/02/IMG_3640-scaled.jpg
END:VEVENT
BEGIN:VEVENT
DTSTART;TZID=Europe/Helsinki:20260820T180000
DTEND;TZID=Europe/Helsinki:20260820T220000
DTSTAMP:20260423T005338
CREATED:20260422T090022Z
LAST-MODIFIED:20260422T090022Z
UID:540-1787248800-1787263200@stolze-huesli.ch
SUMMARY:Dunnstigs-Jass
DESCRIPTION:Dunnstigs-Jass 🔔 \n Beim Jassturnier sind alle willkommen – ob jung oder alt\, Einsteiger oder Profi. Entscheidend ist einzig der Spass am Spiel. \nDie Anmeldung erfolgt direkt als 2er-Team inklusive Teamnamen. Die Teilnehmerzahl ist begrenzt\, daher lohnt sich eine rasche Anmeldung. \nAnmeldung: lea.vogel@stolze-openair.ch
URL:https://stolze-huesli.ch/event/dunnstigs-jass-6/
ATTACH;FMTTYPE=image/jpeg:https://stolze-huesli.ch/wp-content/uploads/2026/02/IMG_3640-scaled.jpg
END:VEVENT
END:VCALENDAR