BEGIN:VCALENDAR
VERSION:2.0
PRODID:-//Stolzehüsli - ECPv6.15.20//NONSGML v1.0//EN
CALSCALE:GREGORIAN
METHOD:PUBLISH
X-ORIGINAL-URL:https://stolze-huesli.ch
X-WR-CALDESC:Veranstaltungen im Stolzehüsli
REFRESH-INTERVAL;VALUE=DURATION:PT1H
X-Robots-Tag:noindex
X-PUBLISHED-TTL:PT1H
BEGIN:VTIMEZONE
TZID:Europe/Helsinki
BEGIN:DAYLIGHT
TZOFFSETFROM:+0200
TZOFFSETTO:+0300
TZNAME:EEST
DTSTART:20240331T010000
END:DAYLIGHT
BEGIN:STANDARD
TZOFFSETFROM:+0300
TZOFFSETTO:+0200
TZNAME:EET
DTSTART:20241027T010000
END:STANDARD
BEGIN:DAYLIGHT
TZOFFSETFROM:+0200
TZOFFSETTO:+0300
TZNAME:EEST
DTSTART:20250330T010000
END:DAYLIGHT
BEGIN:STANDARD
TZOFFSETFROM:+0300
TZOFFSETTO:+0200
TZNAME:EET
DTSTART:20251026T010000
END:STANDARD
BEGIN:DAYLIGHT
TZOFFSETFROM:+0200
TZOFFSETTO:+0300
TZNAME:EEST
DTSTART:20260329T010000
END:DAYLIGHT
BEGIN:STANDARD
TZOFFSETFROM:+0300
TZOFFSETTO:+0200
TZNAME:EET
DTSTART:20261025T010000
END:STANDARD
END:VTIMEZONE
BEGIN:VEVENT
DTSTART;TZID=Europe/Helsinki:20250525T170000
DTEND;TZID=Europe/Helsinki:20250525T180000
DTSTAMP:20260423T080138
CREATED:20250521T160057Z
LAST-MODIFIED:20250605T170920Z
UID:330-1748192400-1748196000@stolze-huesli.ch
SUMMARY:Stolzehüsli liest: Peter Neumann
DESCRIPTION:Lesung mit Peter Neumann und seinem Buch «Der Reisläufer und das Blutgericht von Zürich» \nPeter Neumann\, manche von euch kennen ihn vielleicht aus dem Quartier\, hat einen historischen Roman geschrieben und liest kommenden Sonntag daraus. \n«Der Reisläufer und das Blutgericht von Zürich» entführt uns ins Jahr 1515\, eine Zeit des Umbruchs und der Intrigen. Im Mittelpunkt steht der junge Samuel Alder aus Küsnacht\, der als Reisläufer in den Krieg zieht und nach seiner Rückkehr in ein Zürich voller Unruhe und Machtspiele gerät. Illustriert mit Zeichnungen von Urs Graf\, bietet das Buch einen packenden Einblick in die Schweizer Geschichte.
URL:https://stolze-huesli.ch/event/stolzehuesli-liest-peter-neumann/
ATTACH;FMTTYPE=image/jpeg:https://stolze-huesli.ch/wp-content/uploads/2025/05/Der_Reislaeufer_l.jpg
END:VEVENT
END:VCALENDAR