BEGIN:VCALENDAR
VERSION:2.0
PRODID:-//Stolzehüsli - ECPv6.15.20//NONSGML v1.0//EN
CALSCALE:GREGORIAN
METHOD:PUBLISH
X-WR-CALNAME:Stolzehüsli
X-ORIGINAL-URL:https://stolze-huesli.ch
X-WR-CALDESC:Veranstaltungen im Stolzehüsli
REFRESH-INTERVAL;VALUE=DURATION:PT1H
X-Robots-Tag:noindex
X-PUBLISHED-TTL:PT1H
BEGIN:VTIMEZONE
TZID:Europe/Helsinki
BEGIN:DAYLIGHT
TZOFFSETFROM:+0200
TZOFFSETTO:+0300
TZNAME:EEST
DTSTART:20250330T010000
END:DAYLIGHT
BEGIN:STANDARD
TZOFFSETFROM:+0300
TZOFFSETTO:+0200
TZNAME:EET
DTSTART:20251026T010000
END:STANDARD
BEGIN:DAYLIGHT
TZOFFSETFROM:+0200
TZOFFSETTO:+0300
TZNAME:EEST
DTSTART:20260329T010000
END:DAYLIGHT
BEGIN:STANDARD
TZOFFSETFROM:+0300
TZOFFSETTO:+0200
TZNAME:EET
DTSTART:20261025T010000
END:STANDARD
BEGIN:DAYLIGHT
TZOFFSETFROM:+0200
TZOFFSETTO:+0300
TZNAME:EEST
DTSTART:20270328T010000
END:DAYLIGHT
BEGIN:STANDARD
TZOFFSETFROM:+0300
TZOFFSETTO:+0200
TZNAME:EET
DTSTART:20271031T010000
END:STANDARD
END:VTIMEZONE
BEGIN:VEVENT
DTSTART;TZID=Europe/Helsinki:20260106T180000
DTEND;TZID=Europe/Helsinki:20260106T190000
DTSTAMP:20260422T134426
CREATED:20251230T185412Z
LAST-MODIFIED:20251230T185412Z
UID:434-1767722400-1767726000@stolze-huesli.ch
SUMMARY:Yoga für Frauen
DESCRIPTION:Josefine möchte die geschlossenen Monate beleben und bietet jeden Dienstag bis Ende März von 18–19 Uhr ein Yoga für Frauen im Hüsli an. Meldet euch gerne bis am selben Tag bis 16 Uhr via Telegram-QR-Code unten oder info@pathfindair.com an.
URL:https://stolze-huesli.ch/event/yoga-fuer-frauen/
ATTACH;FMTTYPE=application/pdf:https://stolze-huesli.ch/wp-content/uploads/2025/12/Yoga-Flyer-Fitness-Rosa-Beige-Feminin-Poster-Flyer-Hochformat-1.pdf
END:VEVENT
BEGIN:VEVENT
DTSTART;TZID=Europe/Helsinki:20260113T180000
DTEND;TZID=Europe/Helsinki:20260113T190000
DTSTAMP:20260422T134426
CREATED:20251230T185437Z
LAST-MODIFIED:20251230T185437Z
UID:437-1768327200-1768330800@stolze-huesli.ch
SUMMARY:Yoga für Frauen
DESCRIPTION:Josefine möchte die geschlossenen Monate beleben und bietet jeden Dienstag bis Ende März von 18–19 Uhr ein Yoga für Frauen im Hüsli an. Meldet euch gerne bis am selben Tag bis 16 Uhr via Telegram-QR-Code unten oder info@pathfindair.com an.
URL:https://stolze-huesli.ch/event/yoga-fuer-frauen-2/
ATTACH;FMTTYPE=application/pdf:https://stolze-huesli.ch/wp-content/uploads/2025/12/Yoga-Flyer-Fitness-Rosa-Beige-Feminin-Poster-Flyer-Hochformat-1.pdf
END:VEVENT
BEGIN:VEVENT
DTSTART;TZID=Europe/Helsinki:20260115T140000
DTEND;TZID=Europe/Helsinki:20260115T180000
DTSTAMP:20260422T134426
CREATED:20251230T185917Z
LAST-MODIFIED:20251230T190149Z
UID:464-1768485600-1768500000@stolze-huesli.ch
SUMMARY:Fredis Bar
DESCRIPTION:Fredi aus dem Kreis 6 wollte euch nicht den ganzen Januar auf dem Trockenen sitzen lassen und wird nun jeweils am Donnerstag\, 15.\, 22. und 29. Januar 2026\, von 14–18 Uhr das Stolzehüsli für einen gemütlichen Nachmittagsdrink und selbstgemachte Häppchen öffnen.
URL:https://stolze-huesli.ch/event/fredis-bar/
ATTACH;FMTTYPE=image/heic:https://stolze-huesli.ch/wp-content/uploads/2025/12/IMG_9164.heic
END:VEVENT
BEGIN:VEVENT
DTSTART;TZID=Europe/Helsinki:20260120T180000
DTEND;TZID=Europe/Helsinki:20260120T190000
DTSTAMP:20260422T134426
CREATED:20251230T185500Z
LAST-MODIFIED:20251230T185500Z
UID:439-1768932000-1768935600@stolze-huesli.ch
SUMMARY:Yoga für Frauen
DESCRIPTION:Josefine möchte die geschlossenen Monate beleben und bietet jeden Dienstag bis Ende März von 18–19 Uhr ein Yoga für Frauen im Hüsli an. Meldet euch gerne bis am selben Tag bis 16 Uhr via Telegram-QR-Code unten oder info@pathfindair.com an.
URL:https://stolze-huesli.ch/event/yoga-fuer-frauen-3/
ATTACH;FMTTYPE=application/pdf:https://stolze-huesli.ch/wp-content/uploads/2025/12/Yoga-Flyer-Fitness-Rosa-Beige-Feminin-Poster-Flyer-Hochformat-1.pdf
END:VEVENT
BEGIN:VEVENT
DTSTART;TZID=Europe/Helsinki:20260122T140000
DTEND;TZID=Europe/Helsinki:20260122T180000
DTSTAMP:20260422T134426
CREATED:20251230T185934Z
LAST-MODIFIED:20251230T190224Z
UID:467-1769090400-1769104800@stolze-huesli.ch
SUMMARY:Fredis Bar
DESCRIPTION:Fredi aus dem Kreis 6 wollte euch nicht den ganzen Januar auf dem Trockenen sitzen lassen und wird nun jeweils am Donnerstag\, 15.\, 22. und 29. Januar 2026\, von 14–18 Uhr das Stolzehüsli für einen gemütlichen Nachmittagsdrink und selbstgemachte Häppchen öffnen.
URL:https://stolze-huesli.ch/event/fredis-bar-2/
ATTACH;FMTTYPE=image/heic:https://stolze-huesli.ch/wp-content/uploads/2025/12/IMG_9164.heic
END:VEVENT
BEGIN:VEVENT
DTSTART;TZID=Europe/Helsinki:20260127T180000
DTEND;TZID=Europe/Helsinki:20260127T190000
DTSTAMP:20260422T134426
CREATED:20251230T185519Z
LAST-MODIFIED:20251230T185519Z
UID:443-1769536800-1769540400@stolze-huesli.ch
SUMMARY:Yoga für Frauen
DESCRIPTION:Josefine möchte die geschlossenen Monate beleben und bietet jeden Dienstag bis Ende März von 18–19 Uhr ein Yoga für Frauen im Hüsli an. Meldet euch gerne bis am selben Tag bis 16 Uhr via Telegram-QR-Code unten oder info@pathfindair.com an.
URL:https://stolze-huesli.ch/event/yoga-fuer-frauen-4/
ATTACH;FMTTYPE=application/pdf:https://stolze-huesli.ch/wp-content/uploads/2025/12/Yoga-Flyer-Fitness-Rosa-Beige-Feminin-Poster-Flyer-Hochformat-1.pdf
END:VEVENT
BEGIN:VEVENT
DTSTART;TZID=Europe/Helsinki:20260129T140000
DTEND;TZID=Europe/Helsinki:20260129T180000
DTSTAMP:20260422T134426
CREATED:20251230T185952Z
LAST-MODIFIED:20251230T190207Z
UID:469-1769695200-1769709600@stolze-huesli.ch
SUMMARY:Fredis Bar
DESCRIPTION:Fredi aus dem Kreis 6 wollte euch nicht den ganzen Januar auf dem Trockenen sitzen lassen und wird nun jeweils am Donnerstag\, 15.\, 22. und 29. Januar 2026\, von 14–18 Uhr das Stolzehüsli für einen gemütlichen Nachmittagsdrink und selbstgemachte Häppchen öffnen.
URL:https://stolze-huesli.ch/event/fredis-bar-3/
ATTACH;FMTTYPE=image/heic:https://stolze-huesli.ch/wp-content/uploads/2025/12/IMG_9164.heic
END:VEVENT
BEGIN:VEVENT
DTSTART;TZID=Europe/Helsinki:20260130T170000
DTEND;TZID=Europe/Helsinki:20260130T220000
DTSTAMP:20260422T134426
CREATED:20260122T161256Z
LAST-MODIFIED:20260122T171244Z
UID:485-1769792400-1769810400@stolze-huesli.ch
SUMMARY:Januarloch-Kerzenziehen
DESCRIPTION:Weil das Kerzenziehen im Dezember mega cute war und Lucy sich gefragt hat\, wieso man eigentlich nicht das ganze Jahr über Kerzen ziehen kann\, gibt’s am 30. und 31. Januar unser Januarloch-Kerzenziehen ✨ \n🕯 Freitag: mit DJ & Drinks \n🕯 Samstag: für die kleineren Hüslibesuchenden \nWir freuen uns riesig auf euch 💖
URL:https://stolze-huesli.ch/event/januarloch-kerzenziehen/
ATTACH;FMTTYPE=image/jpeg:https://stolze-huesli.ch/wp-content/uploads/2026/01/26_Kerzenziehen_fin-scaled-e1769100531442.jpg
END:VEVENT
BEGIN:VEVENT
DTSTART;TZID=Europe/Helsinki:20260131T140000
DTEND;TZID=Europe/Helsinki:20260131T170000
DTSTAMP:20260422T134426
CREATED:20260122T161326Z
LAST-MODIFIED:20260122T171230Z
UID:488-1769868000-1769878800@stolze-huesli.ch
SUMMARY:Januarloch-Kerzenziehen
DESCRIPTION:Weil das Kerzenziehen im Dezember mega cute war und Lucy sich gefragt hat\, wieso man eigentlich nicht das ganze Jahr über Kerzen ziehen kann\, gibt’s am 30. und 31. Januar unser Januarloch-Kerzenziehen ✨ \n🕯 Freitag: mit DJ & Drinks \n🕯 Samstag: für die kleineren Hüslibesuchenden \nWir freuen uns riesig auf euch 💖
URL:https://stolze-huesli.ch/event/januarloch-kerzenziehen-2/
ATTACH;FMTTYPE=image/jpeg:https://stolze-huesli.ch/wp-content/uploads/2026/01/26_Kerzenziehen_fin-scaled-e1769100531442.jpg
END:VEVENT
END:VCALENDAR