BEGIN:VCALENDAR
VERSION:2.0
PRODID:-//Stolzehüsli - ECPv6.15.20//NONSGML v1.0//EN
CALSCALE:GREGORIAN
METHOD:PUBLISH
X-WR-CALNAME:Stolzehüsli
X-ORIGINAL-URL:https://stolze-huesli.ch
X-WR-CALDESC:Veranstaltungen im Stolzehüsli
REFRESH-INTERVAL;VALUE=DURATION:PT1H
X-Robots-Tag:noindex
X-PUBLISHED-TTL:PT1H
BEGIN:VTIMEZONE
TZID:Europe/Helsinki
BEGIN:DAYLIGHT
TZOFFSETFROM:+0200
TZOFFSETTO:+0300
TZNAME:EEST
DTSTART:20250330T010000
END:DAYLIGHT
BEGIN:STANDARD
TZOFFSETFROM:+0300
TZOFFSETTO:+0200
TZNAME:EET
DTSTART:20251026T010000
END:STANDARD
BEGIN:DAYLIGHT
TZOFFSETFROM:+0200
TZOFFSETTO:+0300
TZNAME:EEST
DTSTART:20260329T010000
END:DAYLIGHT
BEGIN:STANDARD
TZOFFSETFROM:+0300
TZOFFSETTO:+0200
TZNAME:EET
DTSTART:20261025T010000
END:STANDARD
BEGIN:DAYLIGHT
TZOFFSETFROM:+0200
TZOFFSETTO:+0300
TZNAME:EEST
DTSTART:20270328T010000
END:DAYLIGHT
BEGIN:STANDARD
TZOFFSETFROM:+0300
TZOFFSETTO:+0200
TZNAME:EET
DTSTART:20271031T010000
END:STANDARD
END:VTIMEZONE
BEGIN:VEVENT
DTSTART;TZID=Europe/Helsinki:20260303T180000
DTEND;TZID=Europe/Helsinki:20260303T190000
DTSTAMP:20260420T101326
CREATED:20251230T185646Z
LAST-MODIFIED:20251230T185646Z
UID:454-1772560800-1772564400@stolze-huesli.ch
SUMMARY:Yoga für Frauen
DESCRIPTION:Josefine möchte die geschlossenen Monate beleben und bietet jeden Dienstag bis Ende März von 18–19 Uhr ein Yoga für Frauen im Hüsli an. Meldet euch gerne bis am selben Tag bis 16 Uhr via Telegram-QR-Code unten oder info@pathfindair.com an.
URL:https://stolze-huesli.ch/event/yoga-fuer-frauen-8/
ATTACH;FMTTYPE=application/pdf:https://stolze-huesli.ch/wp-content/uploads/2025/12/Yoga-Flyer-Fitness-Rosa-Beige-Feminin-Poster-Flyer-Hochformat-1.pdf
END:VEVENT
BEGIN:VEVENT
DTSTART;TZID=Europe/Helsinki:20260310T180000
DTEND;TZID=Europe/Helsinki:20260310T190000
DTSTAMP:20260420T101326
CREATED:20251230T185703Z
LAST-MODIFIED:20251230T185703Z
UID:456-1773165600-1773169200@stolze-huesli.ch
SUMMARY:Yoga für Frauen
DESCRIPTION:Josefine möchte die geschlossenen Monate beleben und bietet jeden Dienstag bis Ende März von 18–19 Uhr ein Yoga für Frauen im Hüsli an. Meldet euch gerne bis am selben Tag bis 16 Uhr via Telegram-QR-Code unten oder info@pathfindair.com an.
URL:https://stolze-huesli.ch/event/yoga-fuer-frauen-9/
ATTACH;FMTTYPE=application/pdf:https://stolze-huesli.ch/wp-content/uploads/2025/12/Yoga-Flyer-Fitness-Rosa-Beige-Feminin-Poster-Flyer-Hochformat-1.pdf
END:VEVENT
BEGIN:VEVENT
DTSTART;TZID=Europe/Helsinki:20260317T180000
DTEND;TZID=Europe/Helsinki:20260317T190000
DTSTAMP:20260420T101326
CREATED:20251230T185728Z
LAST-MODIFIED:20251230T185728Z
UID:458-1773770400-1773774000@stolze-huesli.ch
SUMMARY:Yoga für Frauen
DESCRIPTION:Josefine möchte die geschlossenen Monate beleben und bietet jeden Dienstag bis Ende März von 18–19 Uhr ein Yoga für Frauen im Hüsli an. Meldet euch gerne bis am selben Tag bis 16 Uhr via Telegram-QR-Code unten oder info@pathfindair.com an.
URL:https://stolze-huesli.ch/event/yoga-fuer-frauen-10/
ATTACH;FMTTYPE=application/pdf:https://stolze-huesli.ch/wp-content/uploads/2025/12/Yoga-Flyer-Fitness-Rosa-Beige-Feminin-Poster-Flyer-Hochformat-1.pdf
END:VEVENT
BEGIN:VEVENT
DTSTART;TZID=Europe/Helsinki:20260321T090000
DTEND;TZID=Europe/Helsinki:20260321T120000
DTSTAMP:20260420T101326
CREATED:20260204T180020Z
LAST-MODIFIED:20260204T180020Z
UID:501-1774083600-1774094400@stolze-huesli.ch
SUMMARY:Mütter-Kafi
DESCRIPTION:Samstag\, 21. März 2026 9-12 Uhr \nWünscht du dir als Mutter mehr soziale Kontakte und mehr Austausch mit anderen Müttern? Dann komm ins Mütter-Kafi! \nAls Mutter hat sich eine Nachbarin vom Stolzehüsli nach der Geburt Orte in Zürich vermisst\, an denen man in einem ungezwungenen aber ansprechenden Rahmen andere Mütter kennenlernen\, sich austauschen\, Freundschaften schliessen kann und hoffentlich vieles mehr in weiterer Folge. Deshalb hat sie das Mütter-Kafi ins Leben gerufen. Lasst uns das ‚Mami sein‘ gemeinsam schöner machen! \nEs werden kostengünstig Getränke und Gipfeli zum Verkauf angeboten. Ihr könnt aber auch eigene Sachen mitbringen. Es gibt keinen Konsumzwang.
URL:https://stolze-huesli.ch/event/muetter-kafi-2/
ATTACH;FMTTYPE=image/png:https://stolze-huesli.ch/wp-content/uploads/2026/02/Flyer-Muetter-Kafi-nur-Bild-und-Hintergrund-scaled.png
END:VEVENT
BEGIN:VEVENT
DTSTART;TZID=Europe/Helsinki:20260324T180000
DTEND;TZID=Europe/Helsinki:20260324T190000
DTSTAMP:20260420T101326
CREATED:20251230T185747Z
LAST-MODIFIED:20251230T185747Z
UID:460-1774375200-1774378800@stolze-huesli.ch
SUMMARY:Yoga für Frauen
DESCRIPTION:Josefine möchte die geschlossenen Monate beleben und bietet jeden Dienstag bis Ende März von 18–19 Uhr ein Yoga für Frauen im Hüsli an. Meldet euch gerne bis am selben Tag bis 16 Uhr via Telegram-QR-Code unten oder info@pathfindair.com an.
URL:https://stolze-huesli.ch/event/yoga-fuer-frauen-11/
ATTACH;FMTTYPE=application/pdf:https://stolze-huesli.ch/wp-content/uploads/2025/12/Yoga-Flyer-Fitness-Rosa-Beige-Feminin-Poster-Flyer-Hochformat-1.pdf
END:VEVENT
BEGIN:VEVENT
DTSTART;TZID=Europe/Helsinki:20260325T120000
DTEND;TZID=Europe/Helsinki:20260325T170000
DTSTAMP:20260420T101326
CREATED:20260319T165249Z
LAST-MODIFIED:20260319T165249Z
UID:515-1774440000-1774458000@stolze-huesli.ch
SUMMARY:Eierfärben
DESCRIPTION:Am 25. März kannst du von 14:00 – 17:00 Uhr bei uns Eier färben und bemalen! 🐣 \nDavor könnt ihr bei Samira lecker Mittag essen ab 12:00 Uhr. Den Mittwochsmittagstisch wollen wir in unserer Sommersaison ab Mai jeden Mittwoch machen. Habt ihr auf etwas besonders Lust oder gute Ideen für Gerichte? Schreibt uns an food@stolze-huesli.ch 💕
URL:https://stolze-huesli.ch/event/eierfaerben/
ATTACH;FMTTYPE=image/jpeg:https://stolze-huesli.ch/wp-content/uploads/2026/03/26_SH_Eierfaerben-scaled.jpg
END:VEVENT
BEGIN:VEVENT
DTSTART;TZID=Europe/Helsinki:20260325T140000
DTEND;TZID=Europe/Helsinki:20260325T180000
DTSTAMP:20260420T101326
CREATED:20260319T165518Z
LAST-MODIFIED:20260319T165518Z
UID:518-1774447200-1774461600@stolze-huesli.ch
SUMMARY:Fredis Bar
DESCRIPTION:Fredi\, Karin und Jürg aus dem Kreis 6 wollte euch nicht auf dem Trockenen sitzen lassen und öffnen nun jeweils am Mittwoch im März und April\, von 14–18 Uhr das Stolzehüsli für einen gemütlichen Nachmittagsdrink und selbstgemachte Häppchen.
URL:https://stolze-huesli.ch/event/fredis-bar-4/
END:VEVENT
BEGIN:VEVENT
DTSTART;TZID=Europe/Helsinki:20260331T180000
DTEND;TZID=Europe/Helsinki:20260331T190000
DTSTAMP:20260420T101326
CREATED:20251230T185806Z
LAST-MODIFIED:20251230T185806Z
UID:462-1774980000-1774983600@stolze-huesli.ch
SUMMARY:Yoga für Frauen
DESCRIPTION:Josefine möchte die geschlossenen Monate beleben und bietet jeden Dienstag bis Ende März von 18–19 Uhr ein Yoga für Frauen im Hüsli an. Meldet euch gerne bis am selben Tag bis 16 Uhr via Telegram-QR-Code unten oder info@pathfindair.com an.
URL:https://stolze-huesli.ch/event/yoga-fuer-frauen-12/
ATTACH;FMTTYPE=application/pdf:https://stolze-huesli.ch/wp-content/uploads/2025/12/Yoga-Flyer-Fitness-Rosa-Beige-Feminin-Poster-Flyer-Hochformat-1.pdf
END:VEVENT
END:VCALENDAR